BEGIN:VCALENDAR
VERSION:2.0
PRODID:-//OmniMagnetCalendar//EN
BEGIN:VEVENT
DTSTAMP:20190625T195740Z
STATUS:CONFIRMED
UID:hcsc.clubs.harvard.edu1121
DTSTART:20190304T183000Z
DTEND:20190305T030000Z
LOCATION:Mountaingate Country Club, 12445 Mountaingate Dr, Los Angeles, CA, 90049,
SUMMARY:2019 Harvard Varsity Club California Golf Tournament
DESCRIPTION:Don’t miss out on the 2nd-Annual HVC California Golf Tournament at MountainGate Country Club in Los Angeles, CA. All Harvard alumni, family, friends, and golfing buddies are welcome.
BEGIN:VALARM
TRIGGER:-PT15M
ACTION:DISPLAY
END:VALARM
TRANSP:OPAQUE
END:VEVENT
END:VCALENDAR
