BEGIN:VCALENDAR
VERSION:2.0
PRODID:-//OmniMagnetCalendar//EN
BEGIN:VEVENT
DTSTAMP:20190625T195740Z
STATUS:CONFIRMED
UID:hcsc.clubs.harvard.edu1206
DTSTART:20200116T020000Z
DTEND:20200116T060000Z
LOCATION:The Parlor, 7250 Melrose Ave, Los Angeles, CA, 90046,
SUMMARY:Harvard Global Networking Night (Westside)
DESCRIPTION:Sponsored by the Harvard Club of Southern California, Harvardwood, Harvard Latino Alumni Alliance, Harvard Black Alumni Society of SoCal, H4A, Harvard Alumni for Education, First-Generation Harvard Alumni, Harvard Iranian Alumni, and more!
BEGIN:VALARM
TRIGGER:-PT15M
ACTION:DISPLAY
END:VALARM
TRANSP:OPAQUE
END:VEVENT
END:VCALENDAR
