BEGIN:VCALENDAR
VERSION:2.0
PRODID:-//OmniMagnetCalendar//EN
BEGIN:VEVENT
DTSTAMP:20190625T195740Z
STATUS:CONFIRMED
UID:hcsc.clubs.harvard.edu1215
DTSTART:20200101T190000Z
DTEND:20200102T003000Z
LOCATION:Location: Private residence overlooking Arroyo and Rose Bowl (address given after registration) within walking distance from the stadium,
SUMMARY:Harvard Club/Varsity Club's 2020 Rose Bowl Tailgate
DESCRIPTION:Join fellow alumni and Harvard Varsity Clubbers for a special tailgate as we celebrate the 100-year anniversary of Harvard’s 7-6 1920 Rose Bowl victory - and National Championship - over the previously undefeated University of Oregon Webfoots.
BEGIN:VALARM
TRIGGER:-PT15M
ACTION:DISPLAY
END:VALARM
TRANSP:OPAQUE
END:VEVENT
END:VCALENDAR
