BEGIN:VCALENDAR
VERSION:2.0
PRODID:-//OmniMagnetCalendar//EN
BEGIN:VEVENT
DTSTAMP:20190625T195740Z
STATUS:CONFIRMED
UID:hcsc.clubs.harvard.edu1235
DTSTART:20200223T210000Z
DTEND:20200223T230000Z
LOCATION:Skirball Cultural Center, Haas Conference Room, 2701 North Sepulveda Blvd., Los Angeles, CA, 90049,
SUMMARY:The Last Will of Lucy Sutton: An Antebellum Interracial Love Story
DESCRIPTION:Trusts and estates litigator Terrence M. Franklin (HLS ’89) presents his fascinating journey to discover the true story behind the will that set his ancestors free. Co-sponsored with the HBAS-LA.
BEGIN:VALARM
TRIGGER:-PT15M
ACTION:DISPLAY
END:VALARM
TRANSP:OPAQUE
END:VEVENT
END:VCALENDAR
