BEGIN:VCALENDAR
VERSION:2.0
PRODID:-//OmniMagnetCalendar//EN
BEGIN:VEVENT
DTSTAMP:20190625T195740Z
STATUS:CONFIRMED
UID:hcsc.clubs.harvard.edu1308
DTSTART:20200802T003000Z
DTEND:20200802T020000Z
LOCATION:Virtual Event via Zoom (details sent after registration),
SUMMARY:H4A BookClub with Eugenia Kim, author of The Kinship of Secrets
DESCRIPTION:Come join your fellow Harvard alums for a reading by author Eugenia Kim of her second book The Kinship of Secrets, followed by a discussion with the author.
BEGIN:VALARM
TRIGGER:-PT15M
ACTION:DISPLAY
END:VALARM
TRANSP:OPAQUE
END:VEVENT
END:VCALENDAR
