BEGIN:VCALENDAR
VERSION:2.0
PRODID:-//OmniMagnetCalendar//EN
BEGIN:VEVENT
DTSTAMP:20190625T195740Z
STATUS:CONFIRMED
UID:hcsc.clubs.harvard.edu1345
DTSTART:20201007T010000Z
DTEND:20201007T020000Z
LOCATION:Virtual,
SUMMARY:Partner Club Event (Brown OC): Coronavirus Broke the World: How Can We Build Back Better?
DESCRIPTION:The Brown Club Orange County invites members of the Harvard Club of Southern California to a conversation with CNN Commentator, Jamie Metzl AB ’90 (Brown), Harvard JD ’97, on shared humanity in the Age of COVID-19. Space is limited.
BEGIN:VALARM
TRIGGER:-PT15M
ACTION:DISPLAY
END:VALARM
TRANSP:OPAQUE
END:VEVENT
END:VCALENDAR
