BEGIN:VCALENDAR
VERSION:2.0
PRODID:-//OmniMagnetCalendar//EN
BEGIN:VEVENT
DTSTAMP:20190625T195740Z
STATUS:CONFIRMED
UID:hcsc.clubs.harvard.edu1473
DTSTART:20210609T000000Z
DTEND:20210609T010002Z
LOCATION:Virtual,
SUMMARY:Asia Society Event: MedTech: Preparing For the Next Pandemic - Lessons Learned and Looking Ahead
DESCRIPTION:Join Asia Society Southern California in partnership with BioscienceLA for a discussion on the lessons learned from the pandemic and preparations for the next one.
BEGIN:VALARM
TRIGGER:-PT15M
ACTION:DISPLAY
END:VALARM
TRANSP:OPAQUE
END:VEVENT
END:VCALENDAR
