BEGIN:VCALENDAR
VERSION:2.0
PRODID:-//OmniMagnetCalendar//EN
BEGIN:VEVENT
DTSTAMP:20190625T195740Z
STATUS:CONFIRMED
UID:hcsc.clubs.harvard.edu1502
DTSTART:20211027T000000Z
DTEND:20211027T010000Z
LOCATION:Virtual,
SUMMARY:Partner Club Event (HLSA-LA): NFL 2021, An Inside Look
DESCRIPTION:The NFL’s 2021 season is in full swing. Crowds are back. Games are exciting. And controversy is everywhere. Please join us for a discussion and look at the NFL and the legal and business issues that surround it.
BEGIN:VALARM
TRIGGER:-PT15M
ACTION:DISPLAY
END:VALARM
TRANSP:OPAQUE
END:VEVENT
END:VCALENDAR
