BEGIN:VCALENDAR
VERSION:2.0
PRODID:-//OmniMagnetCalendar//EN
BEGIN:VEVENT
DTSTAMP:20190625T195740Z
STATUS:CONFIRMED
UID:hcsc.clubs.harvard.edu1532
DTSTART:20220527T140000Z
DTEND:20220527T183000Z
LOCATION:Online on Zoom OR Radcliffe Yard, 10 Garden Street, Cambridge, MA 02138 ,
SUMMARY:Radcliffe Day 2022
DESCRIPTION:Each year on Radcliffe Day, the Institute awards the Radcliffe Medal to an individual who embodies our commitment to excellence, inclusion, and social impact. On Radcliffe Day 2022 the Radcliffe Medal will be awarded to Sherrilyn Ifill.
BEGIN:VALARM
TRIGGER:-PT15M
ACTION:DISPLAY
END:VALARM
TRANSP:OPAQUE
END:VEVENT
END:VCALENDAR
