BEGIN:VCALENDAR
VERSION:2.0
PRODID:-//OmniMagnetCalendar//EN
BEGIN:VEVENT
DTSTAMP:20190625T195740Z
STATUS:CONFIRMED
UID:hcsc.clubs.harvard.edu1565
DTSTART:20220724T160000Z
DTEND:20220724T190000Z
LOCATION:Hermosa Beach Pier, 1 Pier Ave, Hermosa Beach, CA, 90254,
SUMMARY:Morning Picnic on the Beach
DESCRIPTION:Please join us for this special picnic in Hermosa Beach on Sunday, July 24th.
BEGIN:VALARM
TRIGGER:-PT15M
ACTION:DISPLAY
END:VALARM
TRANSP:OPAQUE
END:VEVENT
END:VCALENDAR
