BEGIN:VCALENDAR
VERSION:2.0
PRODID:-//OmniMagnetCalendar//EN
BEGIN:VEVENT
DTSTAMP:20190625T195740Z
STATUS:CONFIRMED
UID:hcsc.clubs.harvard.edu1570
DTSTART:20220828T020000Z
DTEND:20220828T050000Z
LOCATION:Los Angeles Music and Art School, 3630 E 3rd St, Los Angeles, CA, 90063,
SUMMARY:Harvard Club of SoCal Weekend of Service: LAMusArt Volunteer Opportunity - 8/27/22
DESCRIPTION:Please join us for this volunteer opportunity, part of Harvard's Global Month of Service. We are looking for up to 10 volunteers as ushers and seat fillers each night. Two nights available - August 26th and August 27th.
BEGIN:VALARM
TRIGGER:-PT15M
ACTION:DISPLAY
END:VALARM
TRANSP:OPAQUE
END:VEVENT
END:VCALENDAR
