BEGIN:VCALENDAR
VERSION:2.0
PRODID:-//OmniMagnetCalendar//EN
BEGIN:VEVENT
DTSTAMP:20190625T195740Z
STATUS:CONFIRMED
UID:hcsc.clubs.harvard.edu1583
DTSTART:20221107T183000Z
DTEND:20221108T040000Z
LOCATION:Brookside Golf & Country Club, 1133 Rosemont Avenue, Pasadena, CA, 91103,
SUMMARY:2022 Harvard Varsity Club California Golf Tournament
DESCRIPTION:The Harvard Varsity Club is returning to the City of Angels for the 3rd HVC California Golf Tournament on Monday, November 7 at historic Brookside Golf Club.
BEGIN:VALARM
TRIGGER:-PT15M
ACTION:DISPLAY
END:VALARM
TRANSP:OPAQUE
END:VEVENT
END:VCALENDAR
