BEGIN:VCALENDAR
VERSION:2.0
PRODID:-//OmniMagnetCalendar//EN
BEGIN:VEVENT
DTSTAMP:20190625T195740Z
STATUS:CONFIRMED
UID:hcsc.clubs.harvard.edu1597
DTSTART:20221105T180000Z
DTEND:20221105T193000Z
LOCATION:Zinque Venice, 1440 Lincoln Blvd, Venice, CA, 90291,
SUMMARY:Harvard in Tech Brunch 
DESCRIPTION:Join us for a casual Saturday morning brunch in Venice. Come meet Harvard alumni in tech - investors, founders, operators are all welcome. Will be a great time! Spots are limited, so RSVP to save your spot.
BEGIN:VALARM
TRIGGER:-PT15M
ACTION:DISPLAY
END:VALARM
TRANSP:OPAQUE
END:VEVENT
END:VCALENDAR
