BEGIN:VCALENDAR
VERSION:2.0
PRODID:-//OmniMagnetCalendar//EN
BEGIN:VEVENT
DTSTAMP:20190625T195740Z
STATUS:CONFIRMED
UID:hcsc.clubs.harvard.edu1599
DTSTART:20230115T040000Z
DTEND:20230115T060000Z
LOCATION:Westwood Presbyterian Church, 10822 Wilshire Blvd., Los Angeles , CA, 90024,
SUMMARY:SOLD OUT - A Cappella Triple Feature - The Dins, Pitches and Kroks Return to L.A.
DESCRIPTION:Join the Harvard Club of Southern California in welcoming three of Harvard’s most prestigious a cappella groups as they return to Los Angeles. The Harvard Din & Tonics, Pitches, & the Harvard Krokodiloes will perform at the Westwood Presbyterian Church.
BEGIN:VALARM
TRIGGER:-PT15M
ACTION:DISPLAY
END:VALARM
TRANSP:OPAQUE
END:VEVENT
END:VCALENDAR
