BEGIN:VCALENDAR
VERSION:2.0
PRODID:-//OmniMagnetCalendar//EN
BEGIN:VEVENT
DTSTAMP:20190625T195740Z
STATUS:CONFIRMED
UID:hcsc.clubs.harvard.edu1668
DTSTART:20230928T200000Z
DTEND:20230928T210000Z
LOCATION:Online via Zoom,
SUMMARY:Partner Club Event (HBAS): The Graduate School Admissions Process for First Generation Professionals
DESCRIPTION:Join Kelly Shapiro, JD '05 and VP-HBAS for a Fireside Chat with Jamiere Abney, EdM '17, Director of Admissions at Western Oregon University. Kelly and Jamiere will discuss the Graduate School Admissions Process for First Generation Professionals.
BEGIN:VALARM
TRIGGER:-PT15M
ACTION:DISPLAY
END:VALARM
TRANSP:OPAQUE
END:VEVENT
END:VCALENDAR
