BEGIN:VCALENDAR
VERSION:2.0
PRODID:-//OmniMagnetCalendar//EN
BEGIN:VEVENT
DTSTAMP:20190625T195740Z
STATUS:CONFIRMED
UID:hcsc.clubs.harvard.edu1681
DTSTART:20231202T010000Z
DTEND:20231202T030000Z
LOCATION:Orange County Museum of Art, 3333 Avenue of the Arts, Costa Mesa, CA, 92626,
SUMMARY:[Members Only] Private Tour of Orange County Museum of Art - SOLD OUT
DESCRIPTION:Join fellow Harvard and Princeton Alums for a private tour of the Orange County Museum of Art and learn about the building’s unique architecture and collection. This event is open to members only - maximum 2 tickets each.
BEGIN:VALARM
TRIGGER:-PT15M
ACTION:DISPLAY
END:VALARM
TRANSP:OPAQUE
END:VEVENT
END:VCALENDAR
