BEGIN:VCALENDAR
VERSION:2.0
PRODID:-//OmniMagnetCalendar//EN
BEGIN:VEVENT
DTSTAMP:20190625T195740Z
STATUS:CONFIRMED
UID:hcsc.clubs.harvard.edu1683
DTSTART:20231209T023000Z
DTEND:20231209T053000Z
LOCATION:The Home of a Club Member near Larchmont Village (Directions and address to be sent the week of the event),
SUMMARY:SOLD OUT - Annual Harvard-Yale Holiday Salon
DESCRIPTION:Join Harvard and Yale alumni and their friends for a lively Holiday Party and Mixer in LA.
BEGIN:VALARM
TRIGGER:-PT15M
ACTION:DISPLAY
END:VALARM
TRANSP:OPAQUE
END:VEVENT
END:VCALENDAR
