BEGIN:VCALENDAR
VERSION:2.0
PRODID:-//OmniMagnetCalendar//EN
BEGIN:VEVENT
DTSTAMP:20190625T195740Z
STATUS:CONFIRMED
UID:hcsc.clubs.harvard.edu1685
DTSTART:20231118T220000Z
DTEND:20231119T010000Z
LOCATION:Sabatinos Sausage Factory, 251 Shipyard Way Ste D, Newport Beach, CA, 92660,
SUMMARY:"The Game" - Post-Game Tailgate 2023
DESCRIPTION:Join us for a post-game lunch and tailgate as we sit along the harbor and munch on Sabatinos world-renowned sausages. Keep the party going with your choice of wine, beer or assorted non-alcoholic beverages. Heartier fare available for separate purchase.
BEGIN:VALARM
TRIGGER:-PT15M
ACTION:DISPLAY
END:VALARM
TRANSP:OPAQUE
END:VEVENT
END:VCALENDAR
