BEGIN:VCALENDAR
VERSION:2.0
PRODID:-//OmniMagnetCalendar//EN
BEGIN:VEVENT
DTSTAMP:20190625T195740Z
STATUS:CONFIRMED
UID:hcsc.clubs.harvard.edu1938
DTSTART:20260424T230000Z
DTEND:20260425T010000Z
LOCATION:UC San Diego Canyonview Aquatic Center, 3302 Voigt Drive, La Jolla, CA, 92093,
SUMMARY:Harvard Women's Water Polo in the NCAA Quarterfinals!
DESCRIPTION:Our Harvard Women’s Water Polo team is on fire! They just won their conference championship and are heading to the National Championship tournament at UCSD starting Friday, April 24. They face UCLA at 4:00pm and it’s a huge matchup you won't want to m
BEGIN:VALARM
TRIGGER:-PT15M
ACTION:DISPLAY
END:VALARM
TRANSP:OPAQUE
END:VEVENT
END:VCALENDAR
