BEGIN:VCALENDAR
VERSION:2.0
PRODID:-//OmniMagnetCalendar//EN
BEGIN:VEVENT
DTSTAMP:20190625T195740Z
STATUS:CONFIRMED
UID:hcsc.clubs.harvard.edu1941
DTSTART:20260522T010000Z
DTEND:20260522T063000Z
LOCATION:The Bungalow (Santa Monica), 101 Wilshire Blvd., Santa Monica, CA, 90401,
SUMMARY:Ivyx B1G May Mixer
DESCRIPTION:Our popular Ivy x B1G mixer series is heating up for summer! ☀️ Join us at the Bungalow in Santa Monica for a warm night of drinks and networking. 👚 Dress code: stylish, fashionable attire is encouraged; gym wear and flip-flops are not permitted.
BEGIN:VALARM
TRIGGER:-PT15M
ACTION:DISPLAY
END:VALARM
TRANSP:OPAQUE
END:VEVENT
END:VCALENDAR
