BEGIN:VCALENDAR
VERSION:2.0
PRODID:-//OmniMagnetCalendar//EN
BEGIN:VEVENT
DTSTAMP:20190625T195740Z
STATUS:CONFIRMED
UID:hcsc.clubs.harvard.edu967
DTSTART:20170407T010000Z
DTEND:
LOCATION:Marco Antonio Firebaugh High School, 5246 Martin Luther King Jr. Blvd, Lynwood, CA, 90262, USA,
SUMMARY:The Early College Awareness Program
DESCRIPTION:The Harvard Latino Alumni Alliance & The Harvard Club of Southern California, in collaboration with The Lynwood Unified School District, present - THE EARLY COLLEGE AWARENESS PROGRAM.
BEGIN:VALARM
TRIGGER:-PT15M
ACTION:DISPLAY
END:VALARM
TRANSP:OPAQUE
END:VEVENT
END:VCALENDAR
